BEGIN:VCALENDAR
VERSION:2.0
PRODID:-//Library Market//iCal Export//EN
BEGIN:VEVENT
SUMMARY:Senior Planet: All Things Zoom
UID:13558
DTSTAMP:20260423T120500Z
DTSTART:20260623T153000Z
DTEND:20260623T170000Z
LOCATION:Wauwatosa Public Library, 7635 West North Ave, Wauwatosa, WI 5321
 3, United States
ROOM: Firefly Room
DESCRIPTION:Learn everything you need to know to confidently use Zoom for 
 video calls! In this class, participants will explore how to join and host
  meetings, use video and audio controls, share screens, and manage chat fe
 atures. We’ll also cover tips for staying safe and comfortable while con
 necting online. This class is perfect for beginners or anyone looking to f
 eel more confident participating in virtual meetings with family, friends,
  or groups.To register, contact the Wauwatosa Health Department via email 
 or phone (414-479-8936).
URL:https://wauwatosa.librarycalendar.com/event/senior-planet-13558
END:VEVENT
END:VCALENDAR
